BEGIN:VCALENDAR
VERSION:2.0
PRODID:-//hacksw/handcal//NONSGML v1.0//EN
BEGIN:VEVENT
SUMMARY:Brive / Pau
UID:a01b0b32-2bc5-417b-86eb-7adabb7f2100
DTSTART:20260418T130000Z
DTEND:20260418T220000Z
LOCATION:Localisation   
CATEGORIES:Sportif
STATUS:
URL;VALUE=URI:https://www.association-section-paloise-rugby.com/evenements/2026/04/18/brive-pau-2441178
END:VEVENT
END:VCALENDAR
